Workbook
Name Excel_BuiltIn_Print_Area_1: [1]БС!#REF!
Name table452a_4: #REF!
Name table452b_4: #REF!

Sheet ФИ-Почетна
T3: (консолидација и ревизија) | U3: (тековна година) | V3: (период)
T4: да | U4: 2011 | V4: 01.01 - 31.03
T5: не | U5: 2012 | V5: 01.01 - 30.06
U6: 2013 | V6: 01.01 - 30.09
U7: 2014 | V7: 01.01 - 31.12
U8: 2023
A9: Финансиски извештаи | U9: 2024
U10: 2025
U11: 2026
U12: 2027
U13: 2028
U14: 2029
U15: 2030
U16: 2027
U17: 2028
B18: Друштво: | C18: Макпетрол АД Скопје | U18: 2029
B19: ЕМБС: | C19: 4057643 | U19: 2030
B20: Консолидиран | C20: да
B21: Ревидиран | C21: не | U21: 2031
B22: Период: | C22: 01.01 - 31.03 | U22: 2032
B23: Година: | C23: 2026 | U23: 2033
U24: 2037
U25: 2038
U26: 2039
B27: Содржина: | U27: 2040
U28: 2041
B29: БУ: Биланс на успех | U29: 2043
U30: 2046
U31: 2047
U32: 2048
U33: 2049
U34: 2050
U35: 2051
U36: 2052
U37: 2053
U38: 2054
U39: 2055
U40: 2056
U41: 2057
... U84: 2097

Sheet Биланс на успех - природа
B1: Друштво: | C1: ='ФИ-Почетна'!$C$18 -> Макпетрол АД Скопје
B2: Период на известување: | C2: ='ФИ-Почетна'!$C$22 -> 01.01 - 31.03
B3: Година: | C3: ='ФИ-Почетна'!$C$23 -> 2026
B4: Извештајот е консолидиран: | C4: ='ФИ-Почетна'!$C$20 -> да
B6: Биланс на успех
B7: (Извештај за сеопфатна добивка)
C8: Податоците се во 000 денари
A9: Р.Б. | B9: Позиција | C9: Претходна година | D9: Тековна година | E9: Индекси
C10: кумулативно од почетокот на годината | D10: кумулативно од почетокот на годината | E10: во однос на прет-ходна година
A11: 1 | B11: ОПЕРАТИВНИ ПРИХОДИ | C11: =C12+C18+C19 -> 7066039 | D11: =D12+D18+D19 -> 7613801 | E11: =IF(C11<=0,0,D11/C11*100) -> 107.75204
A12: 2 | B12: Приходи од продажба | C12: =SUM(C13:C14) -> 7046519 | D12: =SUM(D13:D14) -> 7558620 | E12: =IF(C12<=0,0,D12/C12*100) -> 107.26743
A13: 2а | B13: Приходи од продажба на домашен пазар | C13: 6942470 | D13: 7454016 | E13: =IF(C13<=0,0,D13/C13*100) -> 107.36836
A14: 2б | B14: Приходи од продажба на странски пазар | C14: 104049 | D14: 104604 | E14: =IF(C14<=0,0,D14/C14*100) -> 100.5334
A15: 3 | B15: Промени на залихите на готови производи и производството во тек | C15: XXXXXX | D15: XXXXXX | E15: xxxxx
A16: 4 | B16: Залихи на готови производи и на недовршено производство на почетокот на годината | C16: 68974 | D16: 60095 | E16: =IF(C16<=0,0,D16/C16*100) -> 87.127033
A17: 5 | B17: Залихи на готовите производи и на недовршено производство на крајот на годината | C17: 67220 | D17: 51504 | E17: =IF(C17<=0,0,D17/C17*100) -> 76.620054
A18: 6 | B18: Капитализирано сопствено производство и услуги | C18: 0 | D18: 0 | E18: =IF(C18<=0,0,D18/C18*100) -> 0
A19: 7 | B19: Останати оперативни приходи | C19: 19520 | D19: 55181 | E19: =IF(C19<=0,0,D19/C19*100) -> 282.68955
A20: 8 | B20: ОПЕРАТИВНИ РАСХОДИ | C20: =SUM(C21:C31) -> 6939955 | D20: =SUM(D21:D31) -> 7470976 | E20: =IF(C20<=0,0,D20/C20*100) -> 107.65165
A21: 9 | B21: Набавна вредност на трговски стоки | C21: 6082110 | D21: 6578645 | E21: =IF(C21<=0,0,D21/C21*100) -> 108.16386
A22: 10 | B22: Трошоци за суровини и други материјали | C22: 61482 | D22: 59911 | E22: =IF(C22<=0,0,D22/C22*100) -> 97.444781
A23: 11 | B23: Набавна вредност на продадени материјали, резервни делови, ситен инвентар, амбалажа и автогуми | C23: 7 | D23: 0 | E23: =IF(C23<=0,0,D23/C23*100) -> 0
A24: 12 | B24: Услуги со карактер на материјални трошоци | C24: 158706 | D24: 174272 | E24: =IF(C24<=0,0,D24/C24*100) -> 109.80807
A25: 13 | B25: Останати трошоци од работењето | C25: 55442 | D25: 62632 | E25: =IF(C25<=0,0,D25/C25*100) -> 112.96851
A26: 14 | B26: Трошоци за вработените | C26: 470837 | D26: 500028 | E26: =IF(C26<=0,0,D26/C26*100) -> 106.19981
A27: 15 | B27: Амортизација на материјалните и нематеријалните средства | C27: 72123 | D27: 81156 | E27: =IF(C27<=0,0,D27/C27*100) -> 112.52444
A28: 16 | B28: Вредносно усогласување (обезвреднување) на нетековни средства | C28: 0 | D28: 0 | E28: =IF(C28<=0,0,D28/C28*100) -> 0
A29: 17 | B29: Вредносно усогласување (обезвреднување) на тековни средства | C29: 0 | D29: 220 | E29: =IF(C29<=0,0,D29/C29*100) -> 0
A30: 18 | B30: Резервирања за трошоци и ризици | C30: 0 | D30: 0 | E30: =IF(C30<=0,0,D30/C30*100) -> 0
A31: 19 | B31: Останати расходи од работењето | C31: 39248 | D31: 14112 | E31: =IF(C31<=0,0,D31/C31*100) -> 35.955972
A32: 20 | B32: ОПЕРАТИВНА ДОБИВКА / ЗАГУБА | C32: =C11-C20-C16+C17 -> 124330 | D32: =D11-D20-D16+D17 -> 134234 | E32: =IF(C32<=0,0,D32/C32*100) -> 107.9659
A33: 21 | B33: Финансиски приходи | C33: =C34+C35+C36 -> 22391 | D33: =D34+D35+D36 -> 24825 | E33: =IF(C33<=0,0,D33/C33*100) -> 110.87044
A34: 21а | B34: Приходи од вложувања, заеми и камати и курсни разлики | C34: 19889 | D34: 21084 | E34: =IF(C34<=0,0,D34/C34*100) -> 106.00835
A35: 21б | B35: Останати приходи од финансирање | C35: 29 | D35: 1 | E35: =IF(C35<=0,0,D35/C35*100) -> 3.4482759
A36: 21в | B36: Удел во добивката на придружените друштва | C36: 2473 | D36: 3740 | E36: =IF(C36<=0,0,D36/C36*100) -> 151.23332
A37: 22 | B37: Финансиски расходи | C37: =C38+C39+C40 -> 1866 | D37: =D38+D39+D40 -> 3207 | E37: =IF(C37<=0,0,D37/C37*100) -> 171.86495
A38: 22а | B38: Расходи по основ на камати, курсни разлики и слични расходи | C38: 1789 | D38: 3191 | E38: =IF(C38<=0,0,D38/C38*100) -> 178.3678
A39: 22б | B39: Останати расходи од финансирање | C39: 77 | D39: 16 | E39: =IF(C39<=0,0,D39/C39*100) -> 20.779221
A40: 22в | B40: Удел во загубата на придружените друштва | C40: 0 | D40: 0 | E40: =IF(C40<=0,0,D40/C40*100) -> 0
A41: 23 | B41: Добивка/ загуба од редовно работење | C41: =C32+C33-C37 -> 144855 | D41: =D32+D33-D37 -> 155852 | E41: =IF(C41<=0,0,D41/C41*100) -> 107.59173
...

Sheet Income Statement
B2: Company | C2: ='ФИ-Почетна'!$C$18 -> Макпетрол АД Скопје
B3: Reporting period | C3: ='ФИ-Почетна'!$C$22 -> 01.01 - 31.03 | D3: Year | E3: ='ФИ-Почетна'!$C$23 -> 2026
B4: Consolidated report | C4: ='ФИ-Почетна'!$C$20 -> да
B6: Income Statement
C8: In 000 MKD
B9: Position | C9: Previous Period | D9: Curent Period | E9: Indexes
C10: Year to date | D10: Year to date | E10: curent year / previous year
A11: 1 | B11: Total Operating revenues | C11: ='Биланс на успех - природа'!C11 -> 7066039 | D11: ='Биланс на успех - природа'!D11 -> 7613801 | E11: ='Биланс на успех - природа'!E11 -> 107.75204
A12: 2 | B12: Sales revenues | C12: ='Биланс на успех - природа'!C12 -> 7046519 | D12: ='Биланс на успех - природа'!D12 -> 7558620 | E12: ='Биланс на успех - природа'!E12 -> 107.26743
A13: 2a | B13: Revenues from domestic market | C13: ='Биланс на успех - природа'!C13 -> 6942470 | D13: ='Биланс на успех - природа'!D13 -> 7454016 | E13: ='Биланс на успех - природа'!E13 -> 107.36836
A14: 2b | B14: Revenues from foreign markets | C14: ='Биланс на успех - природа'!C14 -> 104049 | D14: ='Биланс на успех - природа'!D14 -> 104604 | E14: ='Биланс на успех - природа'!E14 -> 100.5334
A15: 3 | B15: Change in the value of inventories | C15: ='Биланс на успех - природа'!C15 -> XXXXXX | D15: ='Биланс на успех - природа'!D15 -> XXXXXX | E15: ='Биланс на успех - природа'!E15 -> xxxxx
A16: 4 | B16: Inventories of finished and unfinised goods at the beginning of the period | C16: ='Биланс на успех - природа'!C16 -> 68974 | D16: ='Биланс на успех - природа'!D16 -> 60095 | E16: ='Биланс на успех - природа'!E16 -> 87.127033
A17: 5 | B17: Inventories of finished and unfinised goods at the end of the period | C17: ='Биланс на успех - природа'!C17 -> 67220 | D17: ='Биланс на успех - природа'!D17 -> 51504 | E17: ='Биланс на успех - природа'!E17 -> 76.620054
A18: 6 | B18: Capitalised own products and services | C18: ='Биланс на успех - природа'!C18 -> 0 | D18: ='Биланс на успех - природа'!D18 -> 0 | E18: ='Биланс на успех - природа'!E18 -> 0
A19: 7 | B19: Other operating revenues | C19: ='Биланс на успех - природа'!C19 -> 19520 | D19: ='Биланс на успех - природа'!D19 -> 55181 | E19: ='Биланс на успех - природа'!E19 -> 282.68955
A20: 8 | B20: Total Operating expenses | C20: ='Биланс на успех - природа'!C20 -> 6939955 | D20: ='Биланс на успех - природа'!D20 -> 7470976 | E20: ='Биланс на успех - природа'!E20 -> 107.65165
A21: 9 | B21: Cost of trading goods sold | C21: ='Биланс на успех - природа'!C21 -> 6082110 | D21: ='Биланс на успех - природа'!D21 -> 6578645 | E21: ='Биланс на успех - природа'!E21 -> 108.16386
A22: 10 | B22: Cost of consumed materials and other supplies | C22: ='Биланс на успех - природа'!C22 -> 61482 | D22: ='Биланс на успех - природа'!D22 -> 59911 | E22: ='Биланс на успех - природа'!E22 -> 97.444781
A23: 11 | B23: Cost of materials, spare parts and other inventory sold | C23: ='Биланс на успех - природа'!C23 -> 7 | D23: ='Биланс на успех - природа'!D23 -> 0 | E23: ='Биланс на успех - природа'!E23 -> 0
A24: 12 | B24: Services | C24: ='Биланс на успех - природа'!C24 -> 158706 | D24: ='Биланс на успех - природа'!D24 -> 174272 | E24: ='Биланс на успех - природа'!E24 -> 109.80807
A25: 13 | B25: Other Expenditures | C25: ='Биланс на успех - природа'!C25 -> 55442 | D25: ='Биланс на успех - природа'!D25 -> 62632 | E25: ='Биланс на успех - природа'!E25 -> 112.96851
A26: 14 | B26: Service costs | C26: ='Биланс на успех - природа'!C26 -> 470837 | D26: ='Биланс на успех - природа'!D26 -> 500028 | E26: ='Биланс на успех - природа'!E26 -> 106.19981
... A33: 21 | B33: Total Financial Revenue | C33: ='Биланс на успех - природа'!C33 -> 22391 | D33: ='Биланс на успех - природа'!D33 -> 24825 | E33: ='Биланс на успех - природа'!E33 -> 110.87044
A34: 21a | B34: Financial revenues from investment, loans granted and interest and exchange rate gains | C34: ='Биланс на успех - природа'!C34 -> 19889 | D34: ='Биланс на успех - природа'!D34 -> 21084 | E34: ='Биланс на успех - природа'!E34 -> 106.00835
A35: 21b | B35: Other Financial Revenue | C35: ='Биланс на успех - природа'!C35 -> 29 | D35: ='Биланс на успех - природа'!D35 -> 1 | E35: ='Биланс на успех - природа'!E35 -> 3.4482759
A36: 21c | B36: Income From Associated Companies | C36: ='Биланс на успех - природа'!C36 -> 2473 | D36: ='Биланс на успех - природа'!D36 -> 3740 | E36: ='Биланс на успех - природа'!E36 -> 151.23332
A37: 22 | B37: Total Financial Expenses | C37: ='Биланс на успех - природа'!C37 -> 1866 | D37: ='Биланс на успех - природа'!D37 -> 3207 | E37: ='Биланс на успех - природа'!E37 -> 171.86495
A38: 22a | B38: Financial expenses from interests and exchange rate losses | C38: ='Биланс на успех - природа'!C38 -> 1789 | D38: ='Биланс на успех - природа'!D38 -> 3191 | E38: ='Биланс на успех - природа'!E38 -> 178.3678
A39: 22b | B39: Other financial expenses | C39: ='Биланс на успех - природа'!C39 -> 77 | D39: ='Биланс на успех - природа'!D39 -> 16 | E39: ='Биланс на успех - природа'!E39 -> 20.779221
A40: 22c | B40: Losses from Associates | C40: ='Биланс на успех - природа'!C40 -> 0 | D40: ='Биланс на успех - природа'!D40 -> 0 | E40: ='Биланс на успех - природа'!E40 -> 0
A41: 23 | B41: Profit from ordinary activities | C41: ='Биланс на успех - природа'!C41 -> 144855 | D41: ='Биланс на успех - природа'!D41 -> 155852 | E41: ='Биланс на успех - природа'!E41 -> 107.59173
A42: 24 | B42: Net Profit from Discountinued activities | C42: ='Биланс на успех - природа'!C42 -> 0 | D42: ='Биланс на успех - природа'!D42 -> 0 | E42: ='Биланс на успех - природа'!E42 -> 0
A43: 25 | B43: Profit from ordinary activities before taxation | C43: ='Биланс на успех - природа'!C43 -> 144855 | D43: ='Биланс на успех - природа'!D43 -> 155852 | E43: ='Биланс на успех - природа'!E43 -> 107.59173
A44: 26 | B44: Corporate tax | C44: ='Биланс на успех - природа'!C44 -> 18596 | D44: ='Биланс на успех - природа'!D44 -> 12031 | E44: ='Биланс на успех - природа'!E44 -> 64.696709
A45: 27 | B45: Net profit | C45: ='Биланс на успех - природа'!C45 -> 126259 | D45: ='Биланс на успех - природа'!D45 -> 143821 | E45: ='Биланс на успех - природа'!E45 -> 113.9095
A46: 28 | B46: Net profit minority shareholders | C46: ='Биланс на успех - природа'!C46 -> 0 | D46: ='Биланс на успех - природа'!D46 -> 0 | E46: ='Биланс на успех - природа'!E46 -> 0
A47: 29 | B47: Net profit Majority shareholders | C47: ='Биланс на успех - природа'!C47 -> 126259 | D47: ='Биланс на успех - природа'!D47 -> 143821 | E47: ='Биланс на успех - природа'!E47 -> 113.9095
A48: 30 | B48: Total other comprehensive income | C48: ='Биланс на успех - природа'!C48 -> 79002 | D48: ='Биланс на успех - природа'!D48 -> 11154 | E48: ='Биланс на успех - природа'!E48 -> 14.11863
A49: 31 | B49: TOTAL COMPREHENSIVE INCOME | C49: ='Биланс на успех - природа'!C49 -> 205261 | D49: ='Биланс на успех - природа'!D49 -> 154975 | E49: ='Биланс на успех - природа'!E49 -> 75.501435
